BEGIN:VCALENDAR
VERSION:2.0
PRODID:-//Associação Portuguesa de Imagiologia Médica e Radioterapia - ECPv6.15.20//NONSGML v1.0//EN
CALSCALE:GREGORIAN
METHOD:PUBLISH
X-WR-CALNAME:Associação Portuguesa de Imagiologia Médica e Radioterapia
X-ORIGINAL-URL:https://apimr.pt
X-WR-CALDESC:Eventos para Associação Portuguesa de Imagiologia Médica e Radioterapia
REFRESH-INTERVAL;VALUE=DURATION:PT1H
X-Robots-Tag:noindex
X-PUBLISHED-TTL:PT1H
BEGIN:VTIMEZONE
TZID:UTC
BEGIN:STANDARD
TZOFFSETFROM:+0000
TZOFFSETTO:+0000
TZNAME:UTC
DTSTART:20240101T000000
END:STANDARD
END:VTIMEZONE
BEGIN:VEVENT
DTSTART;TZID=UTC:20250605T213000
DTEND;TZID=UTC:20250605T220000
DTSTAMP:20260424T162026
CREATED:20250531T142702Z
LAST-MODIFIED:20250531T142702Z
UID:4036-1749159000-1749160800@apimr.pt
SUMMARY:Prompt Engineering: Como Melhorar a Qualidade das Respostas do ChatGPT em Contexto Clínico
DESCRIPTION:Olá colegas\,Dando continuidade às sessões de primavera organizadas pela APIMR e NNEIMR\, o próximo webinar será realizado no dia 5 de junho\, às 21h30.O tema será: ” Prompt Engineering: Como Melhorar a Qualidade das Respostas do ChatGPT em Contexto Clínico “\, e resulta de uma parceria com a JFA Training.Objetivo: Ensinar a construir instruções (“prompts”) eficazes para o trabalho de profissionais de saúde e também de estudantes.Este webinar terá como objetivo introduzir o uso do ChatGPT de forma responsável e prática no contexto da Imagiologia Médica e Radioterapia. Será referido que não é adequado utilizar o ChatGPT para a análise preliminar de anomalias técnicas ou patológicas em imagens médicas\, dada a elevada probabilidade de erro ou distorção da informação.Vagas limitadas. Mais informações e inscrição neste link: https://forms.gle/Vkgh64nUZEFVsbST8Fiquem atentos às nossas redes sociais para mais novidades.Contamos com a vossa presença
URL:https://apimr.pt/event/prompt-engineering-como-melhorar-a-qualidade-das-respostas-do-chatgpt-em-contexto-clinico/
ATTACH;FMTTYPE=image/png:https://apimr.pt/wp-content/uploads/2025/05/Prompt-engeneering_-webinar-5jun.png
END:VEVENT
END:VCALENDAR