BEGIN:VCALENDAR
VERSION:2.0
PRODID:-//Associação Portuguesa de Imagiologia Médica e Radioterapia - ECPv6.15.20//NONSGML v1.0//EN
CALSCALE:GREGORIAN
METHOD:PUBLISH
X-WR-CALNAME:Associação Portuguesa de Imagiologia Médica e Radioterapia
X-ORIGINAL-URL:https://apimr.pt
X-WR-CALDESC:Eventos para Associação Portuguesa de Imagiologia Médica e Radioterapia
REFRESH-INTERVAL;VALUE=DURATION:PT1H
X-Robots-Tag:noindex
X-PUBLISHED-TTL:PT1H
BEGIN:VTIMEZONE
TZID:UTC
BEGIN:STANDARD
TZOFFSETFROM:+0000
TZOFFSETTO:+0000
TZNAME:UTC
DTSTART:20250101T000000
END:STANDARD
END:VTIMEZONE
BEGIN:VEVENT
DTSTART;TZID=UTC:20260523T080000
DTEND;TZID=UTC:20260523T170000
DTSTAMP:20260421T175302
CREATED:20260312T190138Z
LAST-MODIFIED:20260312T205455Z
UID:4135-1779523200-1779555600@apimr.pt
SUMMARY:III Jornadas das Tecnologias da Saúde - Viseu
DESCRIPTION:  \n\n III Jornadas das Tecnologias da Saúde\n\n Os Desafios das Tecnologias da Saúde no Envelhecimento na prevenção\, diagnóstico\, tratamento e reabilitação\, contribuindo para cuidados de saúde mais eficazes e centrados na pessoa.\n\n\n\n Uma excelente oportunidade para profissionais e estudantes das Tecnologias da Saúde debaterem desafios\, soluções e o futuro da área.\n\n\n\n Hospital São Teotónio – Viseu\n 23 de maio\n\n\n Mais informações e inscrições: AQUI\n\n\n\n#TecnologiasDaSaúde #TSDT #Saúde #Formação
URL:https://apimr.pt/event/4135/
ATTACH;FMTTYPE=image/jpeg:https://apimr.pt/wp-content/uploads/2026/03/jornadas-dd.jpg
END:VEVENT
END:VCALENDAR