BEGIN:VCALENDAR
VERSION:2.0
PRODID:-//Associação Portuguesa de Imagiologia Médica e Radioterapia - ECPv6.15.20//NONSGML v1.0//EN
CALSCALE:GREGORIAN
METHOD:PUBLISH
X-ORIGINAL-URL:https://apimr.pt
X-WR-CALDESC:Eventos para Associação Portuguesa de Imagiologia Médica e Radioterapia
REFRESH-INTERVAL;VALUE=DURATION:PT1H
X-Robots-Tag:noindex
X-PUBLISHED-TTL:PT1H
BEGIN:VTIMEZONE
TZID:UTC
BEGIN:STANDARD
TZOFFSETFROM:+0000
TZOFFSETTO:+0000
TZNAME:UTC
DTSTART:20240101T000000
END:STANDARD
END:VTIMEZONE
BEGIN:VEVENT
DTSTART;TZID=UTC:20250515T190000
DTEND;TZID=UTC:20250515T200000
DTSTAMP:20260421T085500
CREATED:20250501T074613Z
LAST-MODIFIED:20250501T074613Z
UID:4009-1747335600-1747339200@apimr.pt
SUMMARY:Webinar Revisão Sistemática de Literatura
DESCRIPTION:Divulgamos o próximo webinar APIMR – NNEIMR\, desta vez organizado pela GADES Solutions\, com a Temática: Revisão Sistemática de Literatura. O uso da revisão sistemática como metodologia para compilar e organizar de forma sistemática a evidência científica tem crescido exponencialmente. A partir da definição de uma questão de pesquisa bem definida\, desenvolve-se um processo metodológico sustentado nas etapas de identificação e seleção das referências relevantes que\, posteriormente\, serão sujeitas a um processo de avaliação da sua qualidade metodológica e síntese da informação relevante. \nOs formadores são Hugo Sarmento\, Professor da Universidade de Coimbra\, onde coordena o Mestrado em Treino Desportivo e Rui Resende Professor na Escola Superior de Desporto e Lazer – Instituto Politécnico de Viana do Castelo. \nO webinar terá lugar dia 15 de Maio\, das 19h às 20h\, via online e é gratuito.  \nPoderão fazer a vossa inscrição através deste LINK. \nOs inscritos que colocarem APIMR como sigla no campo “organização” poderão usufruir de um desconto exclusivo de 15% nos futuros cursos GADES. \n 
URL:https://apimr.pt/event/webinar-revisao-sistematica-de-literatura/
ATTACH;FMTTYPE=image/png:https://apimr.pt/wp-content/uploads/2025/05/Post-Seminario-Revisao-Literatura-Mai15-APIMR.png
END:VEVENT
END:VCALENDAR