BEGIN:VCALENDAR
VERSION:2.0
PRODID:-//Associação Portuguesa de Imagiologia Médica e Radioterapia - ECPv6.15.20//NONSGML v1.0//EN
CALSCALE:GREGORIAN
METHOD:PUBLISH
X-WR-CALNAME:Associação Portuguesa de Imagiologia Médica e Radioterapia
X-ORIGINAL-URL:https://apimr.pt
X-WR-CALDESC:Eventos para Associação Portuguesa de Imagiologia Médica e Radioterapia
REFRESH-INTERVAL;VALUE=DURATION:PT1H
X-Robots-Tag:noindex
X-PUBLISHED-TTL:PT1H
BEGIN:VTIMEZONE
TZID:UTC
BEGIN:STANDARD
TZOFFSETFROM:+0000
TZOFFSETTO:+0000
TZNAME:UTC
DTSTART:20240101T000000
END:STANDARD
END:VTIMEZONE
BEGIN:VEVENT
DTSTART;TZID=UTC:20250611T210000
DTEND;TZID=UTC:20250611T223000
DTSTAMP:20260424T150157
CREATED:20250603T084357Z
LAST-MODIFIED:20250603T094846Z
UID:4043-1749675600-1749681000@apimr.pt
SUMMARY:Webinar "Ressonância Magnética em Pediatria"
DESCRIPTION:  \nOlá colegas\, \nPara continuar as sessões de primavera organizadas pela APIMR e NNEIMR\, apresentamos o próximo webinar que será realizado no dia 11 de Junho às 21h30. \nO tema será: “Ressonância Magnética em Pediatria”\, apresentado pela TSDT e docente Maria João Liberal\, que atualmente desempenha funções como Técnica de Radiologia no Hospital Pediátrico de Coimbra e é ainda docente na Escola Superior de Saúde Dr. Lopes Dias. \nOs temas a serem abordados durante a webinar serão os seguintes: \n\nDiferenças e Desafios da RM em Pediatria\nEstratégias em RM Pediátrica\nA Importância da Multidisciplinaridade em RM Pediátrica\nNovas direções em RM Pediátrica\n\nA palestra é gratuita para sócios da APIMR e do NNEIMR com as cotas em dia\, mas tem um limite de 250 participantes inscritos. Deverão fazer as inscrições até às 23:59 do dia 10 de Junho. \nLink para inscrição: https://forms.gle/LLjb7CNizb7Ek6N97 \nPara não sócios esporádicos\, que desejem assistir\, o custo é de 5€ e deverão enviar o nome da conta em questão e o comprovativo do pagamento para tesouraria@apimr.pt \nDados para pagamento:\nIBAN: PT50003300004548426243505\nDestinatário: APIMR \nO link Zoom para o webinar será enviado para o e-mail na manhã do dia da webinar\, e os diplomas serão enviados na semana seguinte a todos os que assistirem. \nFiquem atentos às nossas redes sociais para mais novidades. \nContamos com a vossa presença\,
URL:https://apimr.pt/event/webinar-ressonancia-magnetica-em-pediatria/
ATTACH;FMTTYPE=image/jpeg:https://apimr.pt/wp-content/uploads/2025/06/Cartaz_RM_Pediatria_RD.jpg
END:VEVENT
END:VCALENDAR