BEGIN:VCALENDAR
VERSION:2.0
PRODID:-//Associação Portuguesa de Imagiologia Médica e Radioterapia - ECPv6.15.20//NONSGML v1.0//EN
CALSCALE:GREGORIAN
METHOD:PUBLISH
X-ORIGINAL-URL:https://apimr.pt
X-WR-CALDESC:Eventos para Associação Portuguesa de Imagiologia Médica e Radioterapia
REFRESH-INTERVAL;VALUE=DURATION:PT1H
X-Robots-Tag:noindex
X-PUBLISHED-TTL:PT1H
BEGIN:VTIMEZONE
TZID:UTC
BEGIN:STANDARD
TZOFFSETFROM:+0000
TZOFFSETTO:+0000
TZNAME:UTC
DTSTART:20230101T000000
END:STANDARD
END:VTIMEZONE
BEGIN:VEVENT
DTSTART;TZID=UTC:20240410T213000
DTEND;TZID=UTC:20240410T230000
DTSTAMP:20260425T111516
CREATED:20240307T145234Z
LAST-MODIFIED:20240402T081450Z
UID:3632-1712784600-1712790000@apimr.pt
SUMMARY:Webinar “Privacidade\, Segurança do Paciente\, Teleradiologia e Inteligência Artificial”
DESCRIPTION:A APIMR\, em colaboração com a BMD Software\, traz uma grande novidade ainda neste mês de Abril acerca de Hot Topics dos tempos atuais.\n\n\n\nO Webinar denomina-se: Privacidade\, Segurança do Paciente\, Teleradiologia e Inteligência Artificial\n\n\n\nAlguns dos Tópicos a abordar serão:\n\n\nAnonimização de Imagens Médicas para fins de datasets;\nAcesso às Imagens Médicas;\nDe que forma pode ser feita uma partilha segura das mesmas;\nMétodos de otimização;\nSistemas de IA emergentes aplicados à Imagem Médica;\n\n\n\n\n\nOs palestrantes serão Luis Bastião PhD\, da BMD Software e também professor na Universidade de Aveiro com especial interesse no desenvolvimento de IA em Imagem Médica e Carlos Costa CTO da BMD Software e professor na Universidade de Aveiro há mais de 30 anos.\n\n\nO Workshop está marcado para dia 10 de Abril às 21h30 via zoom e é gratuito para associados APIMR – NNEIMR.\nPara inscrições esporádicas/não sócios o valor é 5eur\, com direito a certificado de participação.\nVagas limitadas a 200 participantes com a situação regularizada\, daí a estarmos a partilhar em primeiros com os associados de modo a terem prioridade.\n\n\nInscrições e mais informações no seguinte LINK
URL:https://apimr.pt/event/webinar-anonimizacao-acesso-e-partilha-segura-de-imagens-medicas/
ATTACH;FMTTYPE=image/png:https://apimr.pt/wp-content/uploads/2024/03/Webinar_APIMR_flyer.png
END:VEVENT
END:VCALENDAR